BEGIN:VCALENDAR
VERSION:2.0
PRODID:Dunnellon, FL Calendar Creator
METHOD:PUBLISH
BEGIN:VEVENT
DTSTAMP:20251112T150006
DTSTART:20260504T170000
DTEND:20260504T190000
SUMMARY:City Council Workshop
DESCRIPTION:
X-ALT-DESC;FMTTYPE=text/html:
LOCATION:
CLASS:PUBLIC
END:VEVENT
END:VCALENDAR
