BEGIN:VCALENDAR
VERSION:2.0
PRODID:Dunnellon, FL Calendar Creator
METHOD:PUBLISH
BEGIN:VEVENT
DTSTAMP:20251112T150930
DTSTART:20260513T163000
DTEND:20260513T170000
SUMMARY:CRA Board Meeting
DESCRIPTION:
X-ALT-DESC;FMTTYPE=text/html:
LOCATION:
CLASS:PUBLIC
END:VEVENT
END:VCALENDAR
