BEGIN:VCALENDAR
VERSION:2.0
PRODID:Dunnellon, FL Calendar Creator
METHOD:PUBLISH
BEGIN:VEVENT
DTSTAMP:20251119T111052
DTSTART:20260428T150000
DTEND:20260428T160000
SUMMARY:Transportation Planning Organization (TPO) Board
DESCRIPTION:
X-ALT-DESC;FMTTYPE=text/html:
LOCATION:Marion County Board of County Commissioners Auditorium\, 601 SE 25th Ave. Ocala\, Florida 34471
CLASS:PUBLIC
END:VEVENT
END:VCALENDAR
